BEGIN:VCALENDAR
VERSION:2.0
PRODID:-//Vänsterpartiet Västerås - ECPv6.15.17.1//NONSGML v1.0//EN
CALSCALE:GREGORIAN
METHOD:PUBLISH
X-ORIGINAL-URL:https://vasteras.vansterpartiet.se
X-WR-CALDESC:Händelser för Vänsterpartiet Västerås
REFRESH-INTERVAL;VALUE=DURATION:PT1H
X-Robots-Tag:noindex
X-PUBLISHED-TTL:PT1H
BEGIN:VTIMEZONE
TZID:Europe/Stockholm
BEGIN:DAYLIGHT
TZOFFSETFROM:+0100
TZOFFSETTO:+0200
TZNAME:CEST
DTSTART:20200329T010000
END:DAYLIGHT
BEGIN:STANDARD
TZOFFSETFROM:+0200
TZOFFSETTO:+0100
TZNAME:CET
DTSTART:20201025T010000
END:STANDARD
BEGIN:DAYLIGHT
TZOFFSETFROM:+0100
TZOFFSETTO:+0200
TZNAME:CEST
DTSTART:20210328T010000
END:DAYLIGHT
BEGIN:STANDARD
TZOFFSETFROM:+0200
TZOFFSETTO:+0100
TZNAME:CET
DTSTART:20211031T010000
END:STANDARD
BEGIN:DAYLIGHT
TZOFFSETFROM:+0100
TZOFFSETTO:+0200
TZNAME:CEST
DTSTART:20220327T010000
END:DAYLIGHT
BEGIN:STANDARD
TZOFFSETFROM:+0200
TZOFFSETTO:+0100
TZNAME:CET
DTSTART:20221030T010000
END:STANDARD
END:VTIMEZONE
BEGIN:VEVENT
DTSTART;TZID=Europe/Stockholm:20211010T130000
DTEND;TZID=Europe/Stockholm:20211010T160000
DTSTAMP:20260420T062112
CREATED:20210913T100212Z
LAST-MODIFIED:20210913T100404Z
UID:4993-1633870800-1633881600@vasteras.vansterpartiet.se
SUMMARY:Politikerskola del 1
DESCRIPTION:Är du intresserad av att stå på Vänsterpartiets lista inför valet eller kanske skulle vilja ha ett nämnduppdrag nästa mandatperiod? Då är politikerskolan utbildningen för dig! \nTema: Vilka är vi och vad vill vi?
URL:https://vasteras.vansterpartiet.se/event/politikerskola-del-1/
LOCATION:Kommunfullmäktigesalen\, Stadshuset
CATEGORIES:Politikerskola
END:VEVENT
END:VCALENDAR